BEGIN:VCALENDAR
PRODID:-//eluceo/ical//2.0/EN
VERSION:2.0
CALSCALE:GREGORIAN
BEGIN:VEVENT
UID:hey.bayern.694016.6549005
DTSTAMP:20260420T023600Z
SUMMARY:Komm\, Tanz mit!
DTSTART;TZID=Europe/Berlin:20260427T170000
DTEND;TZID=Europe/Berlin:20260427T190000
LOCATION:Am Lindenplatz 1\, 5324 Faistenau\, Österreich
URL;VALUE=URI:https://hey-traunstein.de/events/694016
END:VEVENT
END:VCALENDAR
