BEGIN:VCALENDAR
PRODID:-//eluceo/ical//2.0/EN
VERSION:2.0
CALSCALE:GREGORIAN
BEGIN:VEVENT
UID:hey.bayern.693835.6547366
DTSTAMP:20260424T232041Z
SUMMARY:OÖ. Stiftskonzerte: Ransmayr & Muthspiel
DTSTART;TZID=Europe/Berlin:20260620T190000
DTEND;TZID=Europe/Berlin:20260620T210000
LOCATION:Klosterplatz 1\, 4650 Lambach\, Österreich
GEO:48.091137;13.875443
X-APPLE-STRUCTURED-LOCATION;VALUE=URI;X-ADDRESS=Klosterplatz 1\, 4650 Lamba
 ch\, Österreich;X-APPLE-RADIUS=49;X-TITLE=:geo:48.091137,13.875443
URL;VALUE=URI:https://hey-traunstein.de/events/693835
END:VEVENT
END:VCALENDAR
