BEGIN:VCALENDAR
PRODID:-//eluceo/ical//2.0/EN
VERSION:2.0
CALSCALE:GREGORIAN
BEGIN:VEVENT
UID:hey.bayern.692776.6538193
DTSTAMP:20260420T125543Z
SUMMARY:BLASMUSIK KILLS THE RADIOSTAR
DTSTART;TZID=Europe/Berlin:20260425T200000
DTEND;TZID=Europe/Berlin:20260426T200000
URL;VALUE=URI:https://hey-traunstein.de/events/692776
END:VEVENT
END:VCALENDAR
