BEGIN:VCALENDAR
PRODID:-//eluceo/ical//2.0/EN
VERSION:2.0
CALSCALE:GREGORIAN
BEGIN:VEVENT
UID:hey.bayern.692699.6537508
DTSTAMP:20260421T102829Z
SUMMARY:Südsteiermark Classic - Etappenziel Gnas
DTSTART;TZID=Europe/Berlin:20260424T154500
DTEND;TZID=Europe/Berlin:20260424T235959
URL;VALUE=URI:https://hey-traunstein.de/events/692699
END:VEVENT
END:VCALENDAR
