BEGIN:VCALENDAR
PRODID:-//eluceo/ical//2.0/EN
VERSION:2.0
CALSCALE:GREGORIAN
BEGIN:VEVENT
UID:hey.bayern.690713.6537810
DTSTAMP:20260420T114904Z
SUMMARY:amazoneBERATUNG in der Stadtbibliothek
DTSTART;TZID=Europe/Berlin:20260701T140000
DTEND;TZID=Europe/Berlin:20260701T163000
LOCATION:Schulgasse 44a\, 6850 Dornbirn\, Österreich
GEO:47.410860;9.739480
X-APPLE-STRUCTURED-LOCATION;VALUE=URI;X-ADDRESS=Schulgasse 44a\, 6850 Dornb
 irn\, Österreich;X-APPLE-RADIUS=49;X-TITLE=:geo:47.410860,9.739480
URL;VALUE=URI:https://hey-traunstein.de/events/690713
END:VEVENT
END:VCALENDAR
