BEGIN:VCALENDAR
PRODID:-//eluceo/ical//2.0/EN
VERSION:2.0
CALSCALE:GREGORIAN
BEGIN:VEVENT
UID:hey.bayern.689169.6551116
DTSTAMP:20260423T020222Z
SUMMARY:Yoga auf 3.000m
DTSTART;TZID=Europe/Berlin:20260719T100000
DTEND;TZID=Europe/Berlin:20260719T110000
LOCATION:6167 Neustift im Stubaital\, Österreich
URL;VALUE=URI:https://hey-traunstein.de/events/689169
END:VEVENT
END:VCALENDAR
