BEGIN:VCALENDAR
PRODID:-//eluceo/ical//2.0/EN
VERSION:2.0
CALSCALE:GREGORIAN
BEGIN:VEVENT
UID:hey.bayern.688549.6548685
DTSTAMP:20260423T002016Z
SUMMARY:Frühjahrskonzert der Bürgermusikkapelle Seefeld
DTSTART;TZID=Europe/Berlin:20260529T193000
DTEND;TZID=Europe/Berlin:20260529T235900
LOCATION:6100 Seefeld in Tirol\, Österreich
GEO:47.326730;11.182260
X-APPLE-STRUCTURED-LOCATION;VALUE=URI;X-ADDRESS=6100 Seefeld in Tirol\, Ös
 terreich;X-APPLE-RADIUS=49;X-TITLE=:geo:47.326730,11.182260
URL;VALUE=URI:https://hey-traunstein.de/events/688549
END:VEVENT
END:VCALENDAR
