BEGIN:VCALENDAR
PRODID:-//eluceo/ical//2.0/EN
VERSION:2.0
CALSCALE:GREGORIAN
BEGIN:VEVENT
UID:hey.bayern.688103.6501425
DTSTAMP:20260420T082150Z
SUMMARY:Regina Hübner Dear ...
DTSTART;TZID=Europe/Berlin:20260323T100000
DTEND;TZID=Europe/Berlin:20260323T180000
LOCATION:Burggasse 8\, 9020 Klagenfurt am Wörthersee\, Österreich
GEO:46.624068;14.310452
X-APPLE-STRUCTURED-LOCATION;VALUE=URI;X-ADDRESS=Burggasse 8\, 9020 Klagenfu
 rt am Wörthersee\, Österreich;X-APPLE-RADIUS=49;X-TITLE=:geo:46.624068,1
 4.310452
URL;VALUE=URI:https://hey-traunstein.de/events/688103
END:VEVENT
END:VCALENDAR
