BEGIN:VCALENDAR
PRODID:-//eluceo/ical//2.0/EN
VERSION:2.0
CALSCALE:GREGORIAN
BEGIN:VEVENT
UID:hey.bayern.687399.6491234
DTSTAMP:20260422T222605Z
SUMMARY:31. Innsbrucker Promenadenkonzerte
DTSTART;TZID=Europe/Berlin:20260711T193000
DTEND;TZID=Europe/Berlin:20260711T235900
LOCATION:6020 Innsbruck\, Österreich
GEO:47.268970;11.394590
X-APPLE-STRUCTURED-LOCATION;VALUE=URI;X-ADDRESS=6020 Innsbruck\, Österreic
 h;X-APPLE-RADIUS=49;X-TITLE=:geo:47.268970,11.394590
URL;VALUE=URI:https://hey-traunstein.de/events/687399
END:VEVENT
END:VCALENDAR
