BEGIN:VCALENDAR
PRODID:-//eluceo/ical//2.0/EN
VERSION:2.0
CALSCALE:GREGORIAN
BEGIN:VEVENT
UID:hey.bayern.686661.6483390
DTSTAMP:20260421T201405Z
SUMMARY:Crossing Strings LIVE @ Guitarena
DTSTART;TZID=Europe/Berlin:20261111T150000
DTEND;TZID=Europe/Berlin:20261112T150000
LOCATION:Burgplatz 1\, 9800 Spittal an der Drau\, Österreich
URL;VALUE=URI:https://hey-traunstein.de/events/686661
END:VEVENT
END:VCALENDAR
