BEGIN:VCALENDAR
PRODID:-//eluceo/ical//2.0/EN
VERSION:2.0
CALSCALE:GREGORIAN
BEGIN:VEVENT
UID:hey.bayern.686402.6481259
DTSTAMP:20260420T073809Z
SUMMARY:Ausstellung: Unfold
DTSTART;TZID=Europe/Berlin:20260610T130000
DTEND;TZID=Europe/Berlin:20260610T235959
LOCATION:Giselakai 15\, 5020 Salzburg\, Österreich
URL;VALUE=URI:https://hey-traunstein.de/events/686402
END:VEVENT
END:VCALENDAR
