BEGIN:VCALENDAR
PRODID:-//eluceo/ical//2.0/EN
VERSION:2.0
CALSCALE:GREGORIAN
BEGIN:VEVENT
UID:hey.bayern.686386.6480805
DTSTAMP:20260420T074029Z
SUMMARY:A Symphonic Tribute to Michael Jackson
DTSTART;TZID=Europe/Berlin:20260510T150000
DTEND;TZID=Europe/Berlin:20260510T235959
LOCATION:Hofstallgasse 1\, 5020 Salzburg\, Österreich
GEO:47.798675;13.041075
X-APPLE-STRUCTURED-LOCATION;VALUE=URI;X-ADDRESS=Hofstallgasse 1\, 5020 Salz
 burg\, Österreich;X-APPLE-RADIUS=49;X-TITLE=:geo:47.798675,13.041075
URL;VALUE=URI:https://hey-traunstein.de/events/686386
END:VEVENT
END:VCALENDAR
