BEGIN:VCALENDAR
PRODID:-//eluceo/ical//2.0/EN
VERSION:2.0
CALSCALE:GREGORIAN
BEGIN:VEVENT
UID:hey.bayern.686178.6479478
DTSTAMP:20260420T073811Z
SUMMARY:The Sound of Music
DTSTART;TZID=Europe/Berlin:20260729T170000
DTEND;TZID=Europe/Berlin:20260729T235959
LOCATION:Schwarzstraße 24\, 5020 Salzburg\, Österreich
GEO:47.803261;13.042516
X-APPLE-STRUCTURED-LOCATION;VALUE=URI;X-ADDRESS=Schwarzstraße 24\, 5020 Sa
 lzburg\, Österreich;X-APPLE-RADIUS=49;X-TITLE=:geo:47.803261,13.042516
URL;VALUE=URI:https://hey-traunstein.de/events/686178
END:VEVENT
END:VCALENDAR
