BEGIN:VCALENDAR
PRODID:-//eluceo/ical//2.0/EN
VERSION:2.0
CALSCALE:GREGORIAN
BEGIN:VEVENT
UID:hey.bayern.685911.6477834
DTSTAMP:20260420T052631Z
SUMMARY:Nachts in der Bibliothek
DTSTART;TZID=Europe/Berlin:20260430T190000
DTEND;TZID=Europe/Berlin:20260430T235900
LOCATION:Schillerplatz 2\, 4021 Linz\, Österreich
GEO:48.297236;14.290839
X-APPLE-STRUCTURED-LOCATION;VALUE=URI;X-ADDRESS=Schillerplatz 2\, 4021 Linz
 \, Österreich;X-APPLE-RADIUS=49;X-TITLE=:geo:48.297236,14.290839
URL;VALUE=URI:https://hey-traunstein.de/events/685911
END:VEVENT
END:VCALENDAR
