BEGIN:VCALENDAR
PRODID:-//eluceo/ical//2.0/EN
VERSION:2.0
CALSCALE:GREGORIAN
BEGIN:VEVENT
UID:hey.bayern.684217.6471291
DTSTAMP:20260420T125543Z
SUMMARY:"Sicher am Berg" mit Bergführer Thomas Schäfer - Climbing Basic
DTSTART;TZID=Europe/Berlin:20260530T080000
DTEND;TZID=Europe/Berlin:20260530T160000
URL;VALUE=URI:https://hey-traunstein.de/events/684217
END:VEVENT
END:VCALENDAR
