BEGIN:VCALENDAR
PRODID:-//eluceo/ical//2.0/EN
VERSION:2.0
CALSCALE:GREGORIAN
BEGIN:VEVENT
UID:hey.bayern.680233.6439223
DTSTAMP:20260420T064415Z
SUMMARY:Angewandtes Theater
DTSTART;TZID=Europe/Berlin:20260518T000000
DTEND;TZID=Europe/Berlin:20260519T000000
LOCATION:Draupromenade 6\, 9500 Villach\, Österreich
URL;VALUE=URI:https://hey-traunstein.de/events/680233
END:VEVENT
END:VCALENDAR
