BEGIN:VCALENDAR
PRODID:-//eluceo/ical//2.0/EN
VERSION:2.0
CALSCALE:GREGORIAN
BEGIN:VEVENT
UID:hey.bayern.680155.6437841
DTSTAMP:20260420T073852Z
SUMMARY:The King’s Singers. Such stuff as dreams are made on
DTSTART;TZID=Europe/Berlin:20260510T193000
DTEND;TZID=Europe/Berlin:20260510T235959
LOCATION:Schwarzstraße 28\, 5020 Salzburg\, Österreich
GEO:47.803661;13.041417
X-APPLE-STRUCTURED-LOCATION;VALUE=URI;X-ADDRESS=Schwarzstraße 28\, 5020 Sa
 lzburg\, Österreich;X-APPLE-RADIUS=49;X-TITLE=:geo:47.803661,13.041417
URL;VALUE=URI:https://hey-traunstein.de/events/680155
END:VEVENT
END:VCALENDAR
