BEGIN:VCALENDAR
PRODID:-//eluceo/ical//2.0/EN
VERSION:2.0
CALSCALE:GREGORIAN
BEGIN:VEVENT
UID:hey.bayern.677584.6422826
DTSTAMP:20260420T074007Z
SUMMARY:Please Madame - LIVE 2026
DTSTART;TZID=Europe/Berlin:20260508T200000
DTEND;TZID=Europe/Berlin:20260508T235959
LOCATION:Schallmooser Hauptstraße 46\, 5020 Salzburg\, Österreich
GEO:47.807043;13.058948
X-APPLE-STRUCTURED-LOCATION;VALUE=URI;X-ADDRESS=Schallmooser Hauptstraße 4
 6\, 5020 Salzburg\, Österreich;X-APPLE-RADIUS=49;X-TITLE=:geo:47.807043,1
 3.058948
URL;VALUE=URI:https://hey-traunstein.de/events/677584
END:VEVENT
END:VCALENDAR
