BEGIN:VCALENDAR
PRODID:-//eluceo/ical//2.0/EN
VERSION:2.0
CALSCALE:GREGORIAN
BEGIN:VEVENT
UID:hey.bayern.676905.6413562
DTSTAMP:20260420T073939Z
SUMMARY:Chorage®#1: The Space in Between
DTSTART;TZID=Europe/Berlin:20260512T193000
DTEND;TZID=Europe/Berlin:20260512T235959
LOCATION:Erentrudisstraße 5\, 5020 Salzburg\, Österreich
GEO:47.785146;13.063622
X-APPLE-STRUCTURED-LOCATION;VALUE=URI;X-ADDRESS=Erentrudisstraße 5\, 5020 
 Salzburg\, Österreich;X-APPLE-RADIUS=49;X-TITLE=:geo:47.785146,13.063622
URL;VALUE=URI:https://hey-traunstein.de/events/676905
END:VEVENT
END:VCALENDAR
