BEGIN:VCALENDAR
PRODID:-//eluceo/ical//2.0/EN
VERSION:2.0
CALSCALE:GREGORIAN
BEGIN:VEVENT
UID:hey.bayern.676380.6406118
DTSTAMP:20260420T073907Z
SUMMARY:Kirchenmusik in der Franziskanerkirche Salzburg - Christi Himmelfah
 rt
DTSTART;TZID=Europe/Berlin:20260514T090000
DTEND;TZID=Europe/Berlin:20260514T235959
LOCATION:Franziskanergasse 5\, 5020 Salzburg\, Österreich
GEO:47.797816;13.044134
X-APPLE-STRUCTURED-LOCATION;VALUE=URI;X-ADDRESS=Franziskanergasse 5\, 5020 
 Salzburg\, Österreich;X-APPLE-RADIUS=49;X-TITLE=:geo:47.797816,13.044134
URL;VALUE=URI:https://hey-traunstein.de/events/676380
END:VEVENT
END:VCALENDAR
