BEGIN:VCALENDAR
PRODID:-//eluceo/ical//2.0/EN
VERSION:2.0
CALSCALE:GREGORIAN
BEGIN:VEVENT
UID:hey.bayern.673127.6387638
DTSTAMP:20260424T201315Z
SUMMARY:Kabarett: Grazbürsten
DTSTART;TZID=Europe/Berlin:20260131T193000
DTEND;TZID=Europe/Berlin:20260131T235959
LOCATION:Fischeraustraße 22\, 8051 Graz\, Österreich
GEO:47.095472;15.410155
X-APPLE-STRUCTURED-LOCATION;VALUE=URI;X-ADDRESS=Fischeraustraße 22\, 8051 
 Graz\, Österreich;X-APPLE-RADIUS=49;X-TITLE=:geo:47.095472,15.410155
URL;VALUE=URI:https://hey-traunstein.de/events/673127
END:VEVENT
END:VCALENDAR
