BEGIN:VCALENDAR
PRODID:-//eluceo/ical//2.0/EN
VERSION:2.0
CALSCALE:GREGORIAN
BEGIN:VEVENT
UID:hey.bayern.672712.6553700
DTSTAMP:20260421T193045Z
SUMMARY:Laakirchner Gstanzlsingen
DTSTART;TZID=Europe/Berlin:20260925T193000
DTEND;TZID=Europe/Berlin:20260925T220000
LOCATION:Kranabeth 14 \, 4663 Laakirchen\, Österreich
GEO:47.958651;13.859939
X-APPLE-STRUCTURED-LOCATION;VALUE=URI;X-ADDRESS=Kranabeth 14 \, 4663 Laakir
 chen\, Österreich;X-APPLE-RADIUS=49;X-TITLE=:geo:47.958651,13.859939
URL;VALUE=URI:https://hey-traunstein.de/events/672712
END:VEVENT
END:VCALENDAR
