BEGIN:VCALENDAR
PRODID:-//eluceo/ical//2.0/EN
VERSION:2.0
CALSCALE:GREGORIAN
BEGIN:VEVENT
UID:hey.bayern.672265.6380855
DTSTAMP:20260420T073858Z
SUMMARY:Maibaumfest in der Stiegl-Brauwelt
DTSTART;TZID=Europe/Berlin:20260510T100000
DTEND;TZID=Europe/Berlin:20260510T235959
LOCATION:Bräuhausstraße 9\, 5020 Salzburg\, Österreich
GEO:47.793523;13.021795
X-APPLE-STRUCTURED-LOCATION;VALUE=URI;X-ADDRESS=Bräuhausstraße 9\, 5020 S
 alzburg\, Österreich;X-APPLE-RADIUS=49;X-TITLE=:geo:47.793523,13.021795
URL;VALUE=URI:https://hey-traunstein.de/events/672265
END:VEVENT
END:VCALENDAR
