BEGIN:VCALENDAR
PRODID:-//eluceo/ical//2.0/EN
VERSION:2.0
CALSCALE:GREGORIAN
BEGIN:VEVENT
UID:hey.bayern.671923.6552977
DTSTAMP:20260420T210100Z
SUMMARY:Eröffnung: Musi - Wanderwoche 2026
DTSTART;TZID=Europe/Berlin:20260614T090000
DTEND;TZID=Europe/Berlin:20260615T090000
URL;VALUE=URI:https://hey-traunstein.de/events/671923
END:VEVENT
END:VCALENDAR
