BEGIN:VCALENDAR
PRODID:-//eluceo/ical//2.0/EN
VERSION:2.0
CALSCALE:GREGORIAN
BEGIN:VEVENT
UID:hey.bayern.671828.6376925
DTSTAMP:20260420T102010Z
SUMMARY:Brautbriefe und Widerstand – Dietrich Bonhoeffer und Maria Wedeme
 yer
DTSTART;TZID=Europe/Berlin:20260503T180000
DTEND;TZID=Europe/Berlin:20260503T200000
LOCATION:Lindenhofweg 25\, 88131 Lindau (Bodensee)
GEO:47.557936;9.660931
X-APPLE-STRUCTURED-LOCATION;VALUE=URI;X-ADDRESS=Lindenhofweg 25\, 88131 Lin
 dau (Bodensee);X-APPLE-RADIUS=49;X-TITLE=:geo:47.557936,9.660931
URL;VALUE=URI:https://hey-traunstein.de/events/671828
END:VEVENT
END:VCALENDAR
