BEGIN:VCALENDAR
PRODID:-//eluceo/ical//2.0/EN
VERSION:2.0
CALSCALE:GREGORIAN
BEGIN:VEVENT
UID:hey.bayern.670433.6552719
DTSTAMP:20260421T131330Z
SUMMARY:5-Uhr-Tee
DTSTART;TZID=Europe/Berlin:20260729T183000
DTEND;TZID=Europe/Berlin:20260729T235900
LOCATION:Traunuferstraße 21\, 4052 Ansfelden\, Österreich
GEO:48.224500;14.294100
X-APPLE-STRUCTURED-LOCATION;VALUE=URI;X-ADDRESS=Traunuferstraße 21\, 4052 
 Ansfelden\, Österreich;X-APPLE-RADIUS=49;X-TITLE=:geo:48.224500,14.294100
URL;VALUE=URI:https://hey-traunstein.de/events/670433
END:VEVENT
END:VCALENDAR
