BEGIN:VCALENDAR
PRODID:-//eluceo/ical//2.0/EN
VERSION:2.0
CALSCALE:GREGORIAN
BEGIN:VEVENT
UID:hey.bayern.670188.6556163
DTSTAMP:20260423T102925Z
SUMMARY:Blues & Beyond
DTSTART;TZID=Europe/Berlin:20260423T193000
DTEND;TZID=Europe/Berlin:20260423T235900
LOCATION:Pfarrplatz 4\, 4020 Linz\, Österreich
GEO:48.306637;14.288538
X-APPLE-STRUCTURED-LOCATION;VALUE=URI;X-ADDRESS=Pfarrplatz 4\, 4020 Linz\, 
 Österreich;X-APPLE-RADIUS=49;X-TITLE=:geo:48.306637,14.288538
URL;VALUE=URI:https://hey-traunstein.de/events/670188
END:VEVENT
END:VCALENDAR
