BEGIN:VCALENDAR
PRODID:-//eluceo/ical//2.0/EN
VERSION:2.0
CALSCALE:GREGORIAN
BEGIN:VEVENT
UID:hey.bayern.669960.6553666
DTSTAMP:20260421T134452Z
SUMMARY:PETER UND DER WOLF - Attergauer Kultursommer 2026
DTSTART;TZID=Europe/Berlin:20260814T190000
DTEND;TZID=Europe/Berlin:20260815T000000
LOCATION:Dr. Greil Straße 8\, 4880 St. Georgen im Attergau\, Österreich
GEO:47.934559;13.485486
X-APPLE-STRUCTURED-LOCATION;VALUE=URI;X-ADDRESS=Dr. Greil Straße 8\, 4880 
 St. Georgen im Attergau\, Österreich;X-APPLE-RADIUS=49;X-TITLE=:geo:47.93
 4559,13.485486
URL;VALUE=URI:https://hey-traunstein.de/events/669960
END:VEVENT
END:VCALENDAR
