BEGIN:VCALENDAR
PRODID:-//eluceo/ical//2.0/EN
VERSION:2.0
CALSCALE:GREGORIAN
BEGIN:VEVENT
UID:hey.bayern.669940.6553696
DTSTAMP:20260421T134453Z
SUMMARY:KLAVIER-RECITAL RUDOLF BUCHBINDER - Attergauer Kultursommer 2026
DTSTART;TZID=Europe/Berlin:20260724T190000
DTEND;TZID=Europe/Berlin:20260725T000000
LOCATION:Marktstraße 5\, 4870 Vöcklamarkt\, Österreich
GEO:48.003260;13.485320
X-APPLE-STRUCTURED-LOCATION;VALUE=URI;X-ADDRESS=Marktstraße 5\, 4870 Vöck
 lamarkt\, Österreich;X-APPLE-RADIUS=49;X-TITLE=:geo:48.003260,13.485320
URL;VALUE=URI:https://hey-traunstein.de/events/669940
END:VEVENT
END:VCALENDAR
