BEGIN:VCALENDAR
PRODID:-//eluceo/ical//2.0/EN
VERSION:2.0
CALSCALE:GREGORIAN
BEGIN:VEVENT
UID:hey.bayern.669581.6346330
DTSTAMP:20260421T074138Z
SUMMARY:Spice Odyssey: Eine Reise in die Welt der Chili
DTSTART;TZID=Europe/Berlin:20260612T090000
DTEND;TZID=Europe/Berlin:20260612T190000
LOCATION:Roseggerstraße 20-22\, 4020 Linz\, Österreich
GEO:48.295992;14.277019
X-APPLE-STRUCTURED-LOCATION;VALUE=URI;X-ADDRESS=Roseggerstraße 20-22\, 402
 0 Linz\, Österreich;X-APPLE-RADIUS=49;X-TITLE=:geo:48.295992,14.277019
URL;VALUE=URI:https://hey-traunstein.de/events/669581
END:VEVENT
END:VCALENDAR
