BEGIN:VCALENDAR
PRODID:-//eluceo/ical//2.0/EN
VERSION:2.0
CALSCALE:GREGORIAN
BEGIN:VEVENT
UID:hey.bayern.668973.6338816
DTSTAMP:20260420T125542Z
SUMMARY:Kneipp-Aktiv-Club - Frühstück beim Biohof Lingenhel
DTSTART;TZID=Europe/Berlin:20260425T090000
DTEND;TZID=Europe/Berlin:20260425T235959
URL;VALUE=URI:https://hey-traunstein.de/events/668973
END:VEVENT
END:VCALENDAR
