BEGIN:VCALENDAR
PRODID:-//eluceo/ical//2.0/EN
VERSION:2.0
CALSCALE:GREGORIAN
BEGIN:VEVENT
UID:hey.bayern.667638.6322568
DTSTAMP:20260420T074032Z
SUMMARY:Not the Messiah – nach dem Kultfilm „Das Leben des Brian“
DTSTART;TZID=Europe/Berlin:20260616T193000
DTEND;TZID=Europe/Berlin:20260616T235959
LOCATION:Schwarzstraße 22\, 5020 Salzburg\, Österreich
GEO:47.802865;13.042823
X-APPLE-STRUCTURED-LOCATION;VALUE=URI;X-ADDRESS=Schwarzstraße 22\, 5020 Sa
 lzburg\, Österreich;X-APPLE-RADIUS=49;X-TITLE=:geo:47.802865,13.042823
URL;VALUE=URI:https://hey-traunstein.de/events/667638
END:VEVENT
END:VCALENDAR
