BEGIN:VCALENDAR
PRODID:-//eluceo/ical//2.0/EN
VERSION:2.0
CALSCALE:GREGORIAN
BEGIN:VEVENT
UID:hey.bayern.656405.6144178
DTSTAMP:20260420T035830Z
SUMMARY:Test Veranstaltung communale Website
DTSTART;TZID=Europe/Berlin:20260528T040000
DTEND;TZID=Europe/Berlin:20260529T000000
LOCATION:Schlossberg 1\, 4020 Linz\, Österreich
GEO:48.305391;14.282341
X-APPLE-STRUCTURED-LOCATION;VALUE=URI;X-ADDRESS=Schlossberg 1\, 4020 Linz\,
  Österreich;X-APPLE-RADIUS=49;X-TITLE=:geo:48.305391,14.282341
URL;VALUE=URI:https://hey-traunstein.de/events/656405
END:VEVENT
END:VCALENDAR
