BEGIN:VCALENDAR
PRODID:-//eluceo/ical//2.0/EN
VERSION:2.0
CALSCALE:GREGORIAN
BEGIN:VEVENT
UID:hey.bayern.626642.6120414
DTSTAMP:20260421T070254Z
SUMMARY:Ufer-Picknick am See
DTSTART;TZID=Europe/Berlin:20261116T000000
DTEND;TZID=Europe/Berlin:20261117T000000
URL;VALUE=URI:https://hey-traunstein.de/events/626642
END:VEVENT
END:VCALENDAR
