BEGIN:VCALENDAR
PRODID:-//eluceo/ical//2.0/EN
VERSION:2.0
CALSCALE:GREGORIAN
BEGIN:VEVENT
UID:hey.bayern.623323.6548748
DTSTAMP:20260420T010303Z
SUMMARY:Hirtenadvent - magische Momente zu Weihnachtszeit
DTSTART;TZID=Europe/Berlin:20261212T140000
DTEND;TZID=Europe/Berlin:20261213T140000
LOCATION:Unterer Buigenweg 2\, 87541 Bad Hindelang
GEO:47.505280;10.372530
X-APPLE-STRUCTURED-LOCATION;VALUE=URI;X-ADDRESS=Unterer Buigenweg 2\, 87541
  Bad Hindelang;X-APPLE-RADIUS=49;X-TITLE=:geo:47.505280,10.372530
URL;VALUE=URI:https://hey-traunstein.de/events/623323
END:VEVENT
END:VCALENDAR
