BEGIN:VCALENDAR
PRODID:-//eluceo/ical//2.0/EN
VERSION:2.0
CALSCALE:GREGORIAN
BEGIN:VEVENT
UID:hey.bayern.618450.6553739
DTSTAMP:20260423T213046Z
SUMMARY:Radio Sarajevo
DTSTART;TZID=Europe/Berlin:20260502T193000
DTEND;TZID=Europe/Berlin:20260502T235900
LOCATION:Promenade 39\, 4020 Linz\, Österreich
GEO:48.303880;14.283365
X-APPLE-STRUCTURED-LOCATION;VALUE=URI;X-ADDRESS=Promenade 39\, 4020 Linz\, 
 Österreich;X-APPLE-RADIUS=49;X-TITLE=:geo:48.303880,14.283365
URL;VALUE=URI:https://hey-traunstein.de/events/618450
END:VEVENT
END:VCALENDAR
