BEGIN:VCALENDAR
PRODID:-//eluceo/ical//2.0/EN
VERSION:2.0
CALSCALE:GREGORIAN
BEGIN:VEVENT
UID:hey.bayern.616386.6552979
DTSTAMP:20260420T010352Z
SUMMARY:Feldmesse im Schanzpark in Bad Oberdorf
DTSTART;TZID=Europe/Berlin:20260815T100000
DTEND;TZID=Europe/Berlin:20260816T100000
LOCATION:Mühlweg\, 87541 Bad Oberdorf
GEO:47.500289;10.382755
X-APPLE-STRUCTURED-LOCATION;VALUE=URI;X-ADDRESS=Mühlweg\, 87541 Bad Oberdo
 rf;X-APPLE-RADIUS=49;X-TITLE=:geo:47.500289,10.382755
URL;VALUE=URI:https://hey-traunstein.de/events/616386
END:VEVENT
END:VCALENDAR
