BEGIN:VCALENDAR
PRODID:-//eluceo/ical//2.0/EN
VERSION:2.0
CALSCALE:GREGORIAN
BEGIN:VEVENT
UID:hey.bayern.612848.5735995
DTSTAMP:20260421T133827Z
SUMMARY:Vier: Fünfte!
DTSTART;TZID=Europe/Berlin:20260430T193000
DTEND;TZID=Europe/Berlin:20260430T235900
LOCATION:Untere Donaulände 7\, 4010 Linz\, Österreich
GEO:48.310544;14.292784
X-APPLE-STRUCTURED-LOCATION;VALUE=URI;X-ADDRESS=Untere Donaulände 7\, 4010
  Linz\, Österreich;X-APPLE-RADIUS=49;X-TITLE=:geo:48.310544,14.292784
URL;VALUE=URI:https://hey-traunstein.de/events/612848
END:VEVENT
END:VCALENDAR
