BEGIN:VCALENDAR
PRODID:-//eluceo/ical//2.0/EN
VERSION:2.0
CALSCALE:GREGORIAN
BEGIN:VEVENT
UID:hey.bayern.612021.6552584
DTSTAMP:20260420T162520Z
SUMMARY:Tages-Busfahrt: Triest - Schmelztiegel von Kulturen und Religionen
DTSTART;TZID=Europe/Berlin:20260917T071000
DTEND;TZID=Europe/Berlin:20260918T071000
URL;VALUE=URI:https://hey-traunstein.de/events/612021
END:VEVENT
END:VCALENDAR
