BEGIN:VCALENDAR
PRODID:-//eluceo/ical//2.0/EN
VERSION:2.0
CALSCALE:GREGORIAN
BEGIN:VEVENT
UID:hey.bayern.609920.6553402
DTSTAMP:20260420T164433Z
SUMMARY:Tages-Busfahrt: Ljubljana-Die grüne Hauptstadt Sloweniens
DTSTART;TZID=Europe/Berlin:20260915T091500
DTEND;TZID=Europe/Berlin:20260916T091500
URL;VALUE=URI:https://hey-traunstein.de/events/609920
END:VEVENT
END:VCALENDAR
