BEGIN:VCALENDAR
PRODID:-//eluceo/ical//2.0/EN
VERSION:2.0
CALSCALE:GREGORIAN
BEGIN:VEVENT
UID:hey.bayern.590873.6552784
DTSTAMP:20260420T010302Z
SUMMARY:Bergmesse auf dem Klank mit der Familienmusik Braunsch
DTSTART;TZID=Europe/Berlin:20261003T110000
DTEND;TZID=Europe/Berlin:20261004T110000
LOCATION:87541 Bad Hindelang
GEO:47.522879;10.373737
X-APPLE-STRUCTURED-LOCATION;VALUE=URI;X-ADDRESS=87541 Bad Hindelang;X-APPLE
 -RADIUS=49;X-TITLE=:geo:47.522879,10.373737
URL;VALUE=URI:https://hey-traunstein.de/events/590873
END:VEVENT
END:VCALENDAR
