BEGIN:VCALENDAR
PRODID:-//eluceo/ical//2.0/EN
VERSION:2.0
CALSCALE:GREGORIAN
BEGIN:VEVENT
UID:hey.bayern.585079.6552715
DTSTAMP:20260420T210126Z
SUMMARY:"Kärntnermilch" Musi - Wanderwoche
DTSTART;TZID=Europe/Berlin:20260617T090000
DTEND;TZID=Europe/Berlin:20260618T090000
URL;VALUE=URI:https://hey-traunstein.de/events/585079
END:VEVENT
END:VCALENDAR
