BEGIN:VCALENDAR
PRODID:-//eluceo/ical//2.0/EN
VERSION:2.0
CALSCALE:GREGORIAN
BEGIN:VEVENT
UID:hey.bayern.585078.6552714
DTSTAMP:20260420T210125Z
SUMMARY:"Kärntnermilch" Musi - Wanderwoche
DTSTART;TZID=Europe/Berlin:20260618T100000
DTEND;TZID=Europe/Berlin:20260619T100000
URL;VALUE=URI:https://hey-traunstein.de/events/585078
END:VEVENT
END:VCALENDAR
