BEGIN:VCALENDAR
PRODID:-//eluceo/ical//2.0/EN
VERSION:2.0
CALSCALE:GREGORIAN
BEGIN:VEVENT
UID:hey.bayern.585076.6552713
DTSTAMP:20260420T210059Z
SUMMARY:"Kärntnermilch" Musi - Wanderwoche
DTSTART;TZID=Europe/Berlin:20260615T093000
DTEND;TZID=Europe/Berlin:20260616T093000
URL;VALUE=URI:https://hey-traunstein.de/events/585076
END:VEVENT
END:VCALENDAR
