BEGIN:VCALENDAR
PRODID:-//eluceo/ical//2.0/EN
VERSION:2.0
CALSCALE:GREGORIAN
BEGIN:VEVENT
UID:hey.bayern.585075.6552712
DTSTAMP:20260420T210126Z
SUMMARY:"Kärntnermilch" Musi - Wanderwoche
DTSTART;TZID=Europe/Berlin:20260616T093000
DTEND;TZID=Europe/Berlin:20260617T093000
URL;VALUE=URI:https://hey-traunstein.de/events/585075
END:VEVENT
END:VCALENDAR
