BEGIN:VCALENDAR
PRODID:-//eluceo/ical//2.0/EN
VERSION:2.0
CALSCALE:GREGORIAN
BEGIN:VEVENT
UID:hey.bayern.582141.6553014
DTSTAMP:20260420T010301Z
SUMMARY:Hirtenmesse an der Hubertuskapelle
DTSTART;TZID=Europe/Berlin:20260705T104500
DTEND;TZID=Europe/Berlin:20260706T104500
LOCATION:Giebelstraße\, 87541 Hinterstein
GEO:47.436075;10.426985
X-APPLE-STRUCTURED-LOCATION;VALUE=URI;X-ADDRESS=Giebelstraße\, 87541 Hinte
 rstein;X-APPLE-RADIUS=49;X-TITLE=:geo:47.436075,10.426985
URL;VALUE=URI:https://hey-traunstein.de/events/582141
END:VEVENT
END:VCALENDAR
