BEGIN:VCALENDAR
PRODID:-//eluceo/ical//2.0/EN
VERSION:2.0
CALSCALE:GREGORIAN
BEGIN:VEVENT
UID:hey.bayern.574624.6556414
DTSTAMP:20260423T095427Z
SUMMARY:Geführte Wanderung: Über den Dächern von Kaprun 'Der Maiskogel'
DTSTART;TZID=Europe/Berlin:20260724T093000
DTEND;TZID=Europe/Berlin:20260724T235959
LOCATION:Kitzsteinhornplatz 1a\, 5710 Kaprun\, Österreich
GEO:47.269345;12.747514
X-APPLE-STRUCTURED-LOCATION;VALUE=URI;X-ADDRESS=Kitzsteinhornplatz 1a\, 571
 0 Kaprun\, Österreich;X-APPLE-RADIUS=49;X-TITLE=:geo:47.269345,12.747514
URL;VALUE=URI:https://hey-traunstein.de/events/574624
END:VEVENT
END:VCALENDAR
