BEGIN:VCALENDAR
PRODID:-//eluceo/ical//2.0/EN
VERSION:2.0
CALSCALE:GREGORIAN
BEGIN:VEVENT
UID:hey.bayern.572163.6550670
DTSTAMP:20260421T164531Z
SUMMARY:Kunst an der Quelle by Frauenzimmer
DTSTART;TZID=Europe/Berlin:20260604T140000
DTEND;TZID=Europe/Berlin:20260604T235900
LOCATION:Schwimmbadstraße\, 4540 Pfarrkirchen bei Bad Hall\, Österreich
GEO:48.031700;14.203243
X-APPLE-STRUCTURED-LOCATION;VALUE=URI;X-ADDRESS=Schwimmbadstraße\, 4540 Pf
 arrkirchen bei Bad Hall\, Österreich;X-APPLE-RADIUS=49;X-TITLE=:geo:48.03
 1700,14.203243
URL;VALUE=URI:https://hey-traunstein.de/events/572163
END:VEVENT
END:VCALENDAR
