BEGIN:VCALENDAR
PRODID:-//eluceo/ical//2.0/EN
VERSION:2.0
CALSCALE:GREGORIAN
BEGIN:VEVENT
UID:hey.bayern.565750.6547365
DTSTAMP:20260424T232143Z
SUMMARY:OÖ. Stiftskonzerte: Ensemble Castor
DTSTART;TZID=Europe/Berlin:20260607T110000
DTEND;TZID=Europe/Berlin:20260607T130000
LOCATION:Klosterplatz 1\, 4650 Lambach\, Österreich
GEO:48.091084;13.876935
X-APPLE-STRUCTURED-LOCATION;VALUE=URI;X-ADDRESS=Klosterplatz 1\, 4650 Lamba
 ch\, Österreich;X-APPLE-RADIUS=49;X-TITLE=:geo:48.091084,13.876935
URL;VALUE=URI:https://hey-traunstein.de/events/565750
END:VEVENT
END:VCALENDAR
