BEGIN:VCALENDAR
PRODID:-//eluceo/ical//2.0/EN
VERSION:2.0
CALSCALE:GREGORIAN
BEGIN:VEVENT
UID:hey.bayern.563218.6553457
DTSTAMP:20260420T164444Z
SUMMARY:Naturerlebnis Tscheppaschlucht
DTSTART;TZID=Europe/Berlin:20261030T100000
DTEND;TZID=Europe/Berlin:20261031T100000
URL;VALUE=URI:https://hey-traunstein.de/events/563218
END:VEVENT
END:VCALENDAR
